BEGIN:VCALENDAR
VERSION:2.0
PRODID:-//Hypnose Lyon - Esprit du bien-être - ECPv6.3.2//NONSGML v1.0//EN
CALSCALE:GREGORIAN
METHOD:PUBLISH
X-ORIGINAL-URL:https://www.esprit-du-bien-etre.com
X-WR-CALDESC:évènements pour Hypnose Lyon - Esprit du bien-être
REFRESH-INTERVAL;VALUE=DURATION:PT1H
X-Robots-Tag:noindex
X-PUBLISHED-TTL:PT1H
BEGIN:VTIMEZONE
TZID:Europe/Paris
BEGIN:DAYLIGHT
TZOFFSETFROM:+0100
TZOFFSETTO:+0200
TZNAME:CEST
DTSTART:20250330T010000
END:DAYLIGHT
BEGIN:STANDARD
TZOFFSETFROM:+0200
TZOFFSETTO:+0100
TZNAME:CET
DTSTART:20251026T010000
END:STANDARD
END:VTIMEZONE
BEGIN:VEVENT
DTSTART;TZID=Europe/Paris:20250107T200000
DTEND;TZID=Europe/Paris:20250107T220000
DTSTAMP:20260420T130948
CREATED:20241227T120341Z
LAST-MODIFIED:20250105T055914Z
UID:5631-1736280000-1736287200@www.esprit-du-bien-etre.com
SUMMARY:️ SORTIR DE VOS VIEUX SCHEMAS  ️
DESCRIPTION:🙁 Marre de vous trainer des vieux trucs d’autrefois qui vous plombent ? \n🙁 Ras-le-bol de répéter toujours les mêmes schémas ?\n🙁 Ras-la-casquette des trucs en vous qui sont « plus forts que vous » ? \n🙂 Vous voulez changer ça ?\n🙂 Vous voulez vous sentir plus libre ?\n🙂 Vous avez envie d’avoir vraiment le choix ? \nBienvenue !\nCe nouvel atelier hypno philo est fait pour vous.\nJe vous invite à 2 heures de pause où nous partagerons des clefs\, conscientes et inconscientes\, avec la belle énergie d’un groupe top bienveillant (et qui vit les mêmes choses que vous !) pour VOUS LIBÉRER DE VOS POIDS ET PROGRAMMES D’AUTREFOIS et SORTIR DE VOS VIEUX SCHÉMAS \nLes ateliers hypno philo ?\nUn moment magique avec :– un mix hypnose\, coaching\, philo\,– des outils conscients et très concrets de développement personnel\,– des moments d’hypnose guidée\, donc de voyage vers votre inconscient– un groupe super bienveillant\,– une connexion à vous et à la Nature extérieure. \nVous pouvez vous inscrire ici\n\nLE PROGRAMME DES RÉJOUISSANCES !\n❄️ Hiver : Vous libérer des poids du passé…\n* Sortir de vos vieux schémas – 7/01\n* Apprendre à accepter / faire le deuil – 4/02\n* Vous épanouir & vous réaliser – 4/03 \n Printemps : Vous & vos énergies positives\n* Cultiver votre joie – 8/04\n* Booster votre motivation – 6/05\n* Développer votre cohérence & votre énergie – 3/06 \n. 1 atelier : 25€\n· Carte de saison (6) : 135€ ≠ 150€\n· Carte de 10 : 220€ ≠ 250€\n· Parrainage : 40 € à vous 2\, si vous venez avec quelqu’un que je ne connais pas \n\nA Croix Rousse\, dans mon cabinet cocon  l’hiver\n\nBienvenue !\n\n\nBien sûr\, si vous préférez travailler individuellement sur le sens que vous voudriez donner à votre vie\, vous pouvez prendre RV ou me contacter
URL:https://www.esprit-du-bien-etre.com/event/%ef%b8%8f-sortir-de-vos-vieux-schemas-%ef%b8%8f/
LOCATION:Cabinet Nico Toublanc\, 8 rue Ruplinger\, Lyon\, 69004\, France
CATEGORIES:Atelier hypno philo
ORGANIZER;CN="Nico Toublanc":MAILTO:nico.toublanc@esprit-du-bien-etre.com
END:VEVENT
END:VCALENDAR